BEGIN:VCALENDAR
VERSION:2.0
PRODID:-//ChamberMaster//Event Calendar 2.0//EN
METHOD:PUBLISH
X-PUBLISHED-TTL:P3D
REFRESH-INTERVAL:P3D
CALSCALE:GREGORIAN
BEGIN:VEVENT
DTSTART:20141003T000000Z
DTEND:20141031T010000Z
X-MICROSOFT-CDO-ALLDAYEVENT:FALSE
SUMMARY:- 10/02/2014
DESCRIPTION:ArtSpiritArtSpirit believes art is communication not entertainment. The importance of this series to the community is that jazz parallels the improvisation our own lives require to be successful and fulfilled. Sit in the meditative space of the chapel and engage with the moment. 10 p.m.-Wilson Memorial Chapel For more information call 518-580-8340
X-ALT-DESC;FMTTYPE=text/html:<p>ArtSpirit</p><p><span>ArtSpirit believes art is communication not entertainment. The importance of this series to the community is that jazz parallels the improvisation our own lives require to be successful and fulfilled.&nbsp\;Sit in the meditative space of the chapel and engage with the moment.</span></p> <p><span>10 p.m.-Wilson Memorial Chapel</span></p> <span style="font-size: 12pt\; font-family: Times New Roman\,serif\;">For more information call 518-580-8340</span>
LOCATION:Wilson Memorial Chapel\, Skidmore College
UID:e.2254.2025
SEQUENCE:3
DTSTAMP:20260424T110535Z
URL:https://chamber.saratoga.org/events/details/10-02-2014-10-02-2014-2025
END:VEVENT

END:VCALENDAR
