BEGIN:VCALENDAR
VERSION:2.0
PRODID:-//ChamberMaster//Event Calendar 2.0//EN
METHOD:PUBLISH
X-PUBLISHED-TTL:P3D
REFRESH-INTERVAL:P3D
CALSCALE:GREGORIAN
BEGIN:VEVENT
DTSTART:20141002T220000Z
DTEND:20141002T233000Z
X-MICROSOFT-CDO-ALLDAYEVENT:FALSE
SUMMARY:- 10/02/2014
DESCRIPTION:"The Writer in Her World"Frances Steloff Lecture  Author Jamaica Kincaid will present "The Writer in Her World"  8 p.m.-Gannett Auditorium For more information call 518-580-5150
X-ALT-DESC;FMTTYPE=text/html:<p>"The Writer in Her World"</p><p>Frances Steloff Lecture </p> <p>Author Jamaica Kincaid will present "The Writer in Her World" </p> <p>8 p.m.-Gannett Auditorium</p> <span style="font-size: 12pt\; font-family: Times New Roman\,serif\;">For more information call 518-580-5150</span>
LOCATION:Gannett Auditorium\, Skidmore College
UID:e.2254.2023
SEQUENCE:3
DTSTAMP:20260424T110536Z
URL:https://chamber.saratoga.org/events/details/10-02-2014-10-02-2014-2023
END:VEVENT

END:VCALENDAR
