BEGIN:VCALENDAR
VERSION:2.0
PRODID:-//ChamberMaster//Event Calendar 2.0//EN
METHOD:PUBLISH
X-PUBLISHED-TTL:P3D
REFRESH-INTERVAL:P3D
CALSCALE:GREGORIAN
BEGIN:VEVENT
DTSTART:20141001T090000Z
DTEND:20141001T190000Z
X-MICROSOFT-CDO-ALLDAYEVENT:FALSE
SUMMARY:- 10/01/2014
DESCRIPTION:Small business expo and social media seminars.Meet hundreds of people and a variety of area businesses with diverse products and services. You can sample* and display your services on site. (*sampling of alcoholic beverages not permitted) Find your next employee\, supplier\, vendor or business networking partner at Small Business Albany 2014!
X-ALT-DESC;FMTTYPE=text/html:<p>Small business expo and social media seminars.</p><p>Meet hundreds of people and a variety of area businesses with diverse products and services.</p> <p>You can sample* and display your services on site. (*sampling of alcoholic beverages not permitted)</p> <span style="font-size: 11pt\; line-height: 115%\; font-family: Calibri\, sans-serif\;">Find your next employee\, supplier\, vendor or business networking partner at Small Business Albany 2014!&nbsp\;</span><br>
LOCATION:Latham Holiday Inn Express
UID:e.2254.2736
SEQUENCE:3
DTSTAMP:20260424T104301Z
URL:https://chamber.saratoga.org/events/details/10-01-2014-10-01-2014-2736
END:VEVENT

END:VCALENDAR
